Package: consensusOV Version: 1.29.0 Command: /Library/Frameworks/R.framework/Resources/bin/R CMD check --install=check:consensusOV.install-out.txt --library=/Library/Frameworks/R.framework/Resources/library --no-vignettes --timings consensusOV_1.29.0.tar.gz StartedAt: 2025-02-12 18:40:48 -0500 (Wed, 12 Feb 2025) EndedAt: 2025-02-12 18:43:06 -0500 (Wed, 12 Feb 2025) EllapsedTime: 137.7 seconds RetCode: 0 Status: OK CheckDir: consensusOV.Rcheck Warnings: 0