Package: consensusOV Version: 1.29.0 Command: rm -rf consensusOV.buildbin-libdir && mkdir consensusOV.buildbin-libdir && /Users/biocbuild/BBS/utils/build-universal.sh consensusOV_1.29.0.tar.gz /Library/Frameworks/R.framework/Resources/bin/R consensusOV.buildbin-libdir StartedAt: 2025-02-13 00:31:19 -0500 (Thu, 13 Feb 2025) EndedAt: 2025-02-13 00:32:30 -0500 (Thu, 13 Feb 2025) EllapsedTime: 71.4 seconds RetCode: 0 Status: OK PackageFile: consensusOV_1.29.0.tgz PackageFileSize: 4.523 MiB