Package: consensusOV Version: 1.29.0 Command: /Library/Frameworks/R.framework/Resources/bin/R CMD build --keep-empty-dirs --no-resave-data consensusOV StartedAt: 2025-02-12 16:19:58 -0500 (Wed, 12 Feb 2025) EndedAt: 2025-02-12 16:22:27 -0500 (Wed, 12 Feb 2025) EllapsedTime: 148.5 seconds RetCode: 0 Status: OK PackageFile: consensusOV_1.29.0.tar.gz PackageFileSize: 3.21 MiB