Package: consensusOV Version: 1.29.0 Command: chmod a+r consensusOV -R && E:\biocbuild\bbs-3.21-bioc\R\bin\R.exe CMD build --keep-empty-dirs --no-resave-data consensusOV StartedAt: 2025-02-09 18:02:33 -0500 (Sun, 09 Feb 2025) EndedAt: 2025-02-09 18:05:28 -0500 (Sun, 09 Feb 2025) EllapsedTime: 175.3 seconds RetCode: 0 Status: OK PackageFile: consensusOV_1.29.0.tar.gz PackageFileSize: 3.17 MiB