Package: consensusOV Version: 1.29.0 Command: E:\biocbuild\bbs-3.21-bioc\R\bin\R.exe CMD INSTALL consensusOV StartedAt: 2025-02-09 16:26:28 -0500 (Sun, 09 Feb 2025) EndedAt: 2025-02-09 16:27:33 -0500 (Sun, 09 Feb 2025) EllapsedTime: 65.1 seconds RetCode: 0 Status: OK