Package: consensusSeekeR Version: 1.35.0 Command: /Library/Frameworks/R.framework/Resources/bin/R CMD build --keep-empty-dirs --no-resave-data consensusSeekeR StartedAt: 2025-02-09 15:58:32 -0500 (Sun, 09 Feb 2025) EndedAt: 2025-02-09 15:58:52 -0500 (Sun, 09 Feb 2025) EllapsedTime: 20.2 seconds RetCode: 0 Status: OK PackageFile: consensusSeekeR_1.35.0.tar.gz PackageFileSize: 739.5 KiB