Package: consensusSeekeR Version: 1.35.0 Command: /Library/Frameworks/R.framework/Resources/bin/R CMD INSTALL consensusSeekeR StartedAt: 2025-02-09 15:10:02 -0500 (Sun, 09 Feb 2025) EndedAt: 2025-02-09 15:10:15 -0500 (Sun, 09 Feb 2025) EllapsedTime: 12.8 seconds RetCode: 0 Status: OK