Package: consensusSeekeR Version: 1.35.0 Command: /home/biocbuild/R/R/bin/R CMD build --keep-empty-dirs --no-resave-data consensusSeekeR StartedAt: 2025-01-28 22:05:26 -0000 (Tue, 28 Jan 2025) EndedAt: 2025-01-28 22:06:31 -0000 (Tue, 28 Jan 2025) EllapsedTime: 65.0 seconds RetCode: 0 Status: OK PackageFile: consensusSeekeR_1.35.0.tar.gz PackageFileSize: 763.6 KiB