Package: consensusSeekeR Version: 1.35.0 Command: /home/biocbuild/R/R/bin/R CMD INSTALL consensusSeekeR StartedAt: 2025-01-29 19:53:18 -0000 (Wed, 29 Jan 2025) EndedAt: 2025-01-29 19:53:58 -0000 (Wed, 29 Jan 2025) EllapsedTime: 39.8 seconds RetCode: 0 Status: OK