Package: consensusSeekeR Version: 1.35.0 Command: rm -rf consensusSeekeR.buildbin-libdir && mkdir consensusSeekeR.buildbin-libdir && /Users/biocbuild/BBS/utils/build-universal.sh consensusSeekeR_1.35.0.tar.gz /Library/Frameworks/R.framework/Resources/bin/R consensusSeekeR.buildbin-libdir StartedAt: 2025-02-05 00:34:32 -0500 (Wed, 05 Feb 2025) EndedAt: 2025-02-05 00:35:15 -0500 (Wed, 05 Feb 2025) EllapsedTime: 42.8 seconds RetCode: 0 Status: OK PackageFile: consensusSeekeR_1.35.0.tgz PackageFileSize: 615.3 KiB