Package: consensusSeekeR Version: 1.35.0 Command: /home/biocbuild/bbs-3.21-bioc/R/bin/R CMD build --keep-empty-dirs --no-resave-data consensusSeekeR StartedAt: 2025-02-09 16:46:17 -0500 (Sun, 09 Feb 2025) EndedAt: 2025-02-09 16:48:04 -0500 (Sun, 09 Feb 2025) EllapsedTime: 107.1 seconds RetCode: 0 Status: OK PackageFile: consensusSeekeR_1.35.0.tar.gz PackageFileSize: 739.1 KiB