Package: consensusSeekeR Version: 1.35.0 Command: E:\biocbuild\bbs-3.21-bioc\R\bin\R.exe CMD INSTALL consensusSeekeR StartedAt: 2025-02-09 16:33:13 -0500 (Sun, 09 Feb 2025) EndedAt: 2025-02-09 16:34:24 -0500 (Sun, 09 Feb 2025) EllapsedTime: 71.1 seconds RetCode: 0 Status: OK