Package: conumee Version: 1.41.0 Command: /home/biocbuild/R/R/bin/R CMD check --install=check:conumee.install-out.txt --library=/home/biocbuild/R/R/site-library --no-vignettes --timings conumee_1.41.0.tar.gz StartedAt: 2025-01-28 09:26:47 -0000 (Tue, 28 Jan 2025) EndedAt: 2025-01-28 09:59:22 -0000 (Tue, 28 Jan 2025) EllapsedTime: 1954.8 seconds RetCode: 0 Status: WARNINGS CheckDir: conumee.Rcheck Warnings: 5