Package: conumee Version: 1.41.0 Command: /home/biocbuild/bbs-3.21-bioc/R/bin/R CMD build --keep-empty-dirs --no-resave-data conumee StartedAt: 2025-02-09 16:46:30 -0500 (Sun, 09 Feb 2025) EndedAt: 2025-02-09 16:52:40 -0500 (Sun, 09 Feb 2025) EllapsedTime: 369.5 seconds RetCode: 0 Status: OK PackageFile: conumee_1.41.0.tar.gz PackageFileSize: 1.248 MiB