Package: convert Version: 1.83.0 Command: /Library/Frameworks/R.framework/Resources/bin/R CMD build --keep-empty-dirs --no-resave-data convert StartedAt: 2025-02-09 15:58:47 -0500 (Sun, 09 Feb 2025) EndedAt: 2025-02-09 15:58:51 -0500 (Sun, 09 Feb 2025) EllapsedTime: 4.0 seconds RetCode: 0 Status: OK PackageFile: convert_1.83.0.tar.gz PackageFileSize: 136.8 KiB