Package: convert Version: 1.83.0 Command: /Library/Frameworks/R.framework/Resources/bin/R CMD build --keep-empty-dirs --no-resave-data convert StartedAt: 2025-02-04 16:19:38 -0500 (Tue, 04 Feb 2025) EndedAt: 2025-02-04 16:19:48 -0500 (Tue, 04 Feb 2025) EllapsedTime: 10.2 seconds RetCode: 0 Status: OK PackageFile: convert_1.83.0.tar.gz PackageFileSize: 136.7 KiB