Package: convert Version: 1.83.0 Command: /home/biocbuild/bbs-3.21-bioc/R/bin/R CMD check --install=check:convert.install-out.txt --library=/home/biocbuild/bbs-3.21-bioc/R/site-library --timings convert_1.83.0.tar.gz StartedAt: 2025-02-04 21:10:23 -0500 (Tue, 04 Feb 2025) EndedAt: 2025-02-04 21:10:52 -0500 (Tue, 04 Feb 2025) EllapsedTime: 29.0 seconds RetCode: 0 Status: OK CheckDir: convert.Rcheck Warnings: 0