Package: convert Version: 1.83.0 Command: /home/biocbuild/bbs-3.21-bioc/R/bin/R CMD INSTALL convert StartedAt: 2025-02-04 15:10:28 -0500 (Tue, 04 Feb 2025) EndedAt: 2025-02-04 15:10:32 -0500 (Tue, 04 Feb 2025) EllapsedTime: 4.2 seconds RetCode: 0 Status: OK