Package: convert Version: 1.83.0 Command: rm -rf convert.buildbin-libdir && mkdir convert.buildbin-libdir && E:\biocbuild\bbs-3.21-bioc\R\bin\R.exe CMD INSTALL --build --library=convert.buildbin-libdir convert_1.83.0.tar.gz StartedAt: 2025-02-10 07:31:32 -0500 (Mon, 10 Feb 2025) EndedAt: 2025-02-10 07:31:38 -0500 (Mon, 10 Feb 2025) EllapsedTime: 6.2 seconds RetCode: 0 Status: OK PackageFile: convert_1.83.0.zip PackageFileSize: 97.97 KiB