Package: convert Version: 1.83.0 Command: chmod a+r convert -R && E:\biocbuild\bbs-3.21-bioc\R\bin\R.exe CMD build --keep-empty-dirs --no-resave-data convert StartedAt: 2025-02-12 18:05:53 -0500 (Wed, 12 Feb 2025) EndedAt: 2025-02-12 18:06:14 -0500 (Wed, 12 Feb 2025) EllapsedTime: 21.0 seconds RetCode: 0 Status: OK PackageFile: convert_1.83.0.tar.gz PackageFileSize: 50.32 KiB