Package: copa Version: 1.75.0 Command: /Library/Frameworks/R.framework/Resources/bin/R CMD check --install=check:copa.install-out.txt --library=/Library/Frameworks/R.framework/Resources/library --no-vignettes --timings copa_1.75.0.tar.gz StartedAt: 2025-02-09 18:40:19 -0500 (Sun, 09 Feb 2025) EndedAt: 2025-02-09 18:40:31 -0500 (Sun, 09 Feb 2025) EllapsedTime: 12.1 seconds RetCode: 0 Status: OK CheckDir: copa.Rcheck Warnings: 0