Package: copa Version: 1.75.0 Command: /home/biocbuild/bbs-3.21-bioc/R/bin/R CMD build --keep-empty-dirs --no-resave-data copa StartedAt: 2025-02-09 16:46:41 -0500 (Sun, 09 Feb 2025) EndedAt: 2025-02-09 16:46:49 -0500 (Sun, 09 Feb 2025) EllapsedTime: 8.0 seconds RetCode: 0 Status: OK PackageFile: copa_1.75.0.tar.gz PackageFileSize: 121 KiB