Package: copa Version: 1.75.0 Command: rm -rf copa.buildbin-libdir && mkdir copa.buildbin-libdir && E:\biocbuild\bbs-3.21-bioc\R\bin\R.exe CMD INSTALL --build --library=copa.buildbin-libdir copa_1.75.0.tar.gz StartedAt: 2025-02-10 07:31:35 -0500 (Mon, 10 Feb 2025) EndedAt: 2025-02-10 07:31:46 -0500 (Mon, 10 Feb 2025) EllapsedTime: 11.3 seconds RetCode: 0 Status: OK PackageFile: copa_1.75.0.zip PackageFileSize: 167 KiB