Package: copa Version: 1.75.0 Command: chmod a+r copa -R && E:\biocbuild\bbs-3.21-bioc\R\bin\R.exe CMD build --keep-empty-dirs --no-resave-data copa StartedAt: 2025-02-09 18:03:08 -0500 (Sun, 09 Feb 2025) EndedAt: 2025-02-09 18:03:35 -0500 (Sun, 09 Feb 2025) EllapsedTime: 27.0 seconds RetCode: 0 Status: OK PackageFile: copa_1.75.0.tar.gz PackageFileSize: 121.4 KiB