Package: copa Version: 1.75.0 Command: E:\biocbuild\bbs-3.21-bioc\R\bin\R.exe CMD check --no-multiarch --install=check:copa.install-out.txt --library=E:\biocbuild\bbs-3.21-bioc\R\library --no-vignettes --timings copa_1.75.0.tar.gz StartedAt: 2025-02-13 00:06:43 -0500 (Thu, 13 Feb 2025) EndedAt: 2025-02-13 00:07:18 -0500 (Thu, 13 Feb 2025) EllapsedTime: 34.8 seconds RetCode: 0 Status: OK CheckDir: copa.Rcheck Warnings: 0