Package: coseq Version: 1.31.0 Command: /home/biocbuild/R/R/bin/R CMD INSTALL coseq StartedAt: 2025-01-29 20:15:02 -0000 (Wed, 29 Jan 2025) EndedAt: 2025-01-29 20:15:46 -0000 (Wed, 29 Jan 2025) EllapsedTime: 44.4 seconds RetCode: 0 Status: OK