Package: coseq Version: 1.31.0 Command: /Library/Frameworks/R.framework/Resources/bin/R CMD build --keep-empty-dirs --no-resave-data coseq StartedAt: 2025-02-09 16:23:05 -0500 (Sun, 09 Feb 2025) EndedAt: 2025-02-09 16:27:05 -0500 (Sun, 09 Feb 2025) EllapsedTime: 240.0 seconds RetCode: 0 Status: OK PackageFile: coseq_1.31.0.tar.gz PackageFileSize: 1.795 MiB