Package: coseq Version: 1.31.0 Command: /Library/Frameworks/R.framework/Resources/bin/R CMD check --install=check:coseq.install-out.txt --library=/Library/Frameworks/R.framework/Resources/library --no-vignettes --timings coseq_1.31.0.tar.gz StartedAt: 2025-02-09 19:57:17 -0500 (Sun, 09 Feb 2025) EndedAt: 2025-02-09 20:01:24 -0500 (Sun, 09 Feb 2025) EllapsedTime: 246.5 seconds RetCode: 0 Status: OK CheckDir: coseq.Rcheck Warnings: 0