Package: cosmiq Version: 1.41.0 Command: /home/biocbuild/R/R/bin/R CMD build --keep-empty-dirs --no-resave-data cosmiq StartedAt: 2025-01-28 22:07:55 -0000 (Tue, 28 Jan 2025) EndedAt: 2025-01-28 22:11:14 -0000 (Tue, 28 Jan 2025) EllapsedTime: 199.1 seconds RetCode: 0 Status: OK PackageFile: cosmiq_1.41.0.tar.gz PackageFileSize: 534.2 KiB