Package: cosmiq Version: 1.41.0 Command: /Library/Frameworks/R.framework/Resources/bin/R CMD check --install=check:cosmiq.install-out.txt --library=/Library/Frameworks/R.framework/Resources/library --no-vignettes --timings cosmiq_1.41.0.tar.gz StartedAt: 2025-02-12 19:46:07 -0500 (Wed, 12 Feb 2025) EndedAt: 2025-02-12 19:51:49 -0500 (Wed, 12 Feb 2025) EllapsedTime: 341.9 seconds RetCode: 0 Status: OK CheckDir: cosmiq.Rcheck Warnings: 0