Package: cosmiq Version: 1.41.0 Command: /home/biocbuild/bbs-3.21-bioc/R/bin/R CMD build --keep-empty-dirs --no-resave-data cosmiq StartedAt: 2025-02-12 16:44:37 -0500 (Wed, 12 Feb 2025) EndedAt: 2025-02-12 16:47:00 -0500 (Wed, 12 Feb 2025) EllapsedTime: 143.2 seconds RetCode: 0 Status: OK PackageFile: cosmiq_1.41.0.tar.gz PackageFileSize: 541.6 KiB