Package: cosmiq Version: 1.41.0 Command: /home/biocbuild/bbs-3.21-bioc/R/bin/R CMD check --install=check:cosmiq.install-out.txt --library=/home/biocbuild/bbs-3.21-bioc/R/site-library --timings cosmiq_1.41.0.tar.gz StartedAt: 2025-02-09 21:13:29 -0500 (Sun, 09 Feb 2025) EndedAt: 2025-02-09 21:20:36 -0500 (Sun, 09 Feb 2025) EllapsedTime: 427.6 seconds RetCode: 0 Status: OK CheckDir: cosmiq.Rcheck Warnings: 0