Package: cosmiq Version: 1.41.0 Command: rm -rf cosmiq.buildbin-libdir && mkdir cosmiq.buildbin-libdir && E:\biocbuild\bbs-3.21-bioc\R\bin\R.exe CMD INSTALL --build --library=cosmiq.buildbin-libdir cosmiq_1.41.0.tar.gz StartedAt: 2025-02-10 07:31:54 -0500 (Mon, 10 Feb 2025) EndedAt: 2025-02-10 07:32:37 -0500 (Mon, 10 Feb 2025) EllapsedTime: 43.5 seconds RetCode: 0 Status: OK PackageFile: cosmiq_1.41.0.zip PackageFileSize: 299.3 KiB