Package: cosmiq Version: 1.41.0 Command: E:\biocbuild\bbs-3.21-bioc\R\bin\R.exe CMD INSTALL cosmiq StartedAt: 2025-02-09 16:59:16 -0500 (Sun, 09 Feb 2025) EndedAt: 2025-02-09 17:00:04 -0500 (Sun, 09 Feb 2025) EllapsedTime: 47.7 seconds RetCode: 0 Status: OK