Package: cosmosR Version: 1.15.0 Maintainer: Attila Gabor MaintainerEmail: attila.gabor at uni-heidelberg.de git_url: https://git.bioconductor.org/packages/cosmosR git_branch: devel git_last_commit: 7c6afd6 git_last_commit_date: 2024-10-29 10:59:56 -0500 (Tue, 29 Oct 2024)