Package: cosmosR Version: 1.15.0 Command: /Library/Frameworks/R.framework/Resources/bin/R CMD INSTALL cosmosR StartedAt: 2025-02-12 15:14:19 -0500 (Wed, 12 Feb 2025) EndedAt: 2025-02-12 15:14:22 -0500 (Wed, 12 Feb 2025) EllapsedTime: 3.3 seconds RetCode: 0 Status: OK