Package: cosmosR Version: 1.15.0 Command: /home/biocbuild/R/R/bin/R CMD INSTALL cosmosR StartedAt: 2025-01-29 20:04:40 -0000 (Wed, 29 Jan 2025) EndedAt: 2025-01-29 20:04:52 -0000 (Wed, 29 Jan 2025) EllapsedTime: 12.1 seconds RetCode: 0 Status: OK