Package: cosmosR Version: 1.15.0 Command: /Library/Frameworks/R.framework/Resources/bin/R CMD INSTALL cosmosR StartedAt: 2025-02-09 15:24:05 -0500 (Sun, 09 Feb 2025) EndedAt: 2025-02-09 15:24:19 -0500 (Sun, 09 Feb 2025) EllapsedTime: 14.4 seconds RetCode: 0 Status: OK