Package: cosmosR Version: 1.15.0 Command: /home/biocbuild/bbs-3.21-bioc/R/bin/R CMD build --keep-empty-dirs --no-resave-data cosmosR StartedAt: 2025-02-09 16:47:45 -0500 (Sun, 09 Feb 2025) EndedAt: 2025-02-09 16:48:02 -0500 (Sun, 09 Feb 2025) EllapsedTime: 17.0 seconds RetCode: 0 Status: OK PackageFile: cosmosR_1.15.0.tar.gz PackageFileSize: 3.365 MiB