Package: cosmosR Version: 1.15.0 Command: /home/biocbuild/bbs-3.21-bioc/R/bin/R CMD INSTALL cosmosR StartedAt: 2025-02-12 15:29:16 -0500 (Wed, 12 Feb 2025) EndedAt: 2025-02-12 15:29:24 -0500 (Wed, 12 Feb 2025) EllapsedTime: 7.8 seconds RetCode: 0 Status: OK