Package: cosmosR Version: 1.15.0 Command: chmod a+r cosmosR -R && E:\biocbuild\bbs-3.21-bioc\R\bin\R.exe CMD build --keep-empty-dirs --no-resave-data cosmosR StartedAt: 2025-02-12 18:07:27 -0500 (Wed, 12 Feb 2025) EndedAt: 2025-02-12 18:07:59 -0500 (Wed, 12 Feb 2025) EllapsedTime: 31.6 seconds RetCode: 0 Status: OK PackageFile: cosmosR_1.15.0.tar.gz PackageFileSize: 3.365 MiB