Package: cosmosR Version: 1.15.0 Command: E:\biocbuild\bbs-3.21-bioc\R\bin\R.exe CMD check --no-multiarch --install=check:cosmosR.install-out.txt --library=E:\biocbuild\bbs-3.21-bioc\R\library --no-vignettes --timings cosmosR_1.15.0.tar.gz StartedAt: 2025-02-09 23:59:41 -0500 (Sun, 09 Feb 2025) EndedAt: 2025-02-10 00:01:25 -0500 (Mon, 10 Feb 2025) EllapsedTime: 104.3 seconds RetCode: 0 Status: OK CheckDir: cosmosR.Rcheck Warnings: 0