Package: covEB Version: 1.33.0 Command: /Library/Frameworks/R.framework/Resources/bin/R CMD build --keep-empty-dirs --no-resave-data covEB StartedAt: 2025-02-12 16:00:09 -0500 (Wed, 12 Feb 2025) EndedAt: 2025-02-12 16:00:17 -0500 (Wed, 12 Feb 2025) EllapsedTime: 8.1 seconds RetCode: 0 Status: OK PackageFile: covEB_1.33.0.tar.gz PackageFileSize: 114.8 KiB