Package: covEB Version: 1.33.0 Command: /Library/Frameworks/R.framework/Resources/bin/R CMD INSTALL covEB StartedAt: 2025-02-09 15:02:56 -0500 (Sun, 09 Feb 2025) EndedAt: 2025-02-09 15:03:01 -0500 (Sun, 09 Feb 2025) EllapsedTime: 5.1 seconds RetCode: 0 Status: OK