Package: covEB Version: 1.33.0 Command: rm -rf covEB.buildbin-libdir && mkdir covEB.buildbin-libdir && /Users/biocbuild/BBS/utils/build-universal.sh covEB_1.33.0.tar.gz /Library/Frameworks/R.framework/Resources/bin/R covEB.buildbin-libdir StartedAt: 2025-02-10 00:48:25 -0500 (Mon, 10 Feb 2025) EndedAt: 2025-02-10 00:48:36 -0500 (Mon, 10 Feb 2025) EllapsedTime: 11.5 seconds RetCode: 0 Status: OK PackageFile: covEB_1.33.0.tgz PackageFileSize: 149.6 KiB