Package: covEB Version: 1.33.0 Command: /Library/Frameworks/R.framework/Resources/bin/R CMD check --install=check:covEB.install-out.txt --library=/Library/Frameworks/R.framework/Resources/library --no-vignettes --timings covEB_1.33.0.tar.gz StartedAt: 2025-02-09 19:58:35 -0500 (Sun, 09 Feb 2025) EndedAt: 2025-02-09 19:59:36 -0500 (Sun, 09 Feb 2025) EllapsedTime: 60.8 seconds RetCode: 0 Status: OK CheckDir: covEB.Rcheck Warnings: 0