Package: covEB Version: 1.33.0 Command: /Library/Frameworks/R.framework/Resources/bin/R CMD INSTALL covEB StartedAt: 2025-02-09 15:06:41 -0500 (Sun, 09 Feb 2025) EndedAt: 2025-02-09 15:07:09 -0500 (Sun, 09 Feb 2025) EllapsedTime: 27.8 seconds RetCode: 0 Status: OK