Package: covEB Version: 1.33.0 Command: /home/biocbuild/bbs-3.21-bioc/R/bin/R CMD build --keep-empty-dirs --no-resave-data covEB StartedAt: 2025-02-09 16:48:04 -0500 (Sun, 09 Feb 2025) EndedAt: 2025-02-09 16:48:20 -0500 (Sun, 09 Feb 2025) EllapsedTime: 16.0 seconds RetCode: 0 Status: OK PackageFile: covEB_1.33.0.tar.gz PackageFileSize: 114.8 KiB