Package: covEB Version: 1.33.0 Command: /home/biocbuild/bbs-3.21-bioc/R/bin/R CMD check --install=check:covEB.install-out.txt --library=/home/biocbuild/bbs-3.21-bioc/R/site-library --timings covEB_1.33.0.tar.gz StartedAt: 2025-02-09 21:14:33 -0500 (Sun, 09 Feb 2025) EndedAt: 2025-02-09 21:15:28 -0500 (Sun, 09 Feb 2025) EllapsedTime: 55.1 seconds RetCode: 0 Status: OK CheckDir: covEB.Rcheck Warnings: 0