Package: covEB Version: 1.33.0 Command: chmod a+r covEB -R && E:\biocbuild\bbs-3.21-bioc\R\bin\R.exe CMD build --keep-empty-dirs --no-resave-data covEB StartedAt: 2025-02-09 18:04:58 -0500 (Sun, 09 Feb 2025) EndedAt: 2025-02-09 18:05:20 -0500 (Sun, 09 Feb 2025) EllapsedTime: 22.1 seconds RetCode: 0 Status: OK PackageFile: covEB_1.33.0.tar.gz PackageFileSize: 57.9 KiB